BEGIN:VCALENDAR
CALSCALE:GREGORIAN
PRODID:-//Ben Fortuna//iCal4j 1.0//EN
VERSION:2.0
BEGIN:VEVENT
DTSTAMP:20260125T060512Z
DTSTART:20260127T131500
DTEND:20260127T151500
SUMMARY:State Board of Education\n\nUpdate\n\nJennifer Samuelson\, Chair\
 , Vermont State Board of Education - Zoom\n\nTammy Kolbe\, Ed.D.\, Vice 
 Chair\, State Board of Education - Zoom - Room M103
TZID:America/New_York
UID:20260125T060744Z-uidGen@richgoldman-357e73
END:VEVENT
BEGIN:VALARM
TRIGGER:-PT15M
ACTION:DISPLAY
DESCRIPTION:State Board of Education\n\nUpdate\n\nJennifer Samuelson\, Ch
 air\, Vermont State Board of Education - Zoom\n\nTammy Kolbe\, Ed.D.\, V
 ice Chair\, State Board of Education - Zoom - Room M103
END:VALARM
END:VCALENDAR
