BEGIN:VCALENDAR
CALSCALE:GREGORIAN
PRODID:-//Ben Fortuna//iCal4j 1.0//EN
VERSION:2.0
BEGIN:VEVENT
DTSTAMP:20260126T230013Z
DTSTART:20260127T130000
DTEND:20260127T150000
SUMMARY:FY27 Budget\n\nAgency of Administration\n\nNick Kramer\, Chief Op
 erating Officer\, Agency of Administration\n\nHolly Ferrant\, Chief Fina
 ncial Office\, Financial Services Division\, Agency of Administration\n\
 nJason Pinard\, Deputy Chief Financial Officer\, Financial Services Divi
 sion\, Agency of Administration\n\nHarley Oliver\, Financial Director II
 \, Financial Services Division\, Agency of Administration - Room 5
TZID:America/New_York
UID:20260126T230014Z-uidGen@richgoldman-357e73
END:VEVENT
BEGIN:VALARM
TRIGGER:-PT15M
ACTION:DISPLAY
DESCRIPTION:FY27 Budget\n\nAgency of Administration\n\nNick Kramer\, Chie
 f Operating Officer\, Agency of Administration\n\nHolly Ferrant\, Chief 
 Financial Office\, Financial Services Division\, Agency of Administratio
 n\n\nJason Pinard\, Deputy Chief Financial Officer\, Financial Services 
 Division\, Agency of Administration\n\nHarley Oliver\, Financial Directo
 r II\, Financial Services Division\, Agency of Administration - Room 5
END:VALARM
END:VCALENDAR
