BEGIN:VCALENDAR
CALSCALE:GREGORIAN
PRODID:-//Ben Fortuna//iCal4j 1.0//EN
VERSION:2.0
BEGIN:VEVENT
DTSTAMP:20260127T170014Z
DTSTART:20260127T130000
DTEND:20260127T150000
SUMMARY:H. 626 - An act relating to voyeurism and disclosure of sexually 
 explicit images without consent\n\nWitness Testimony\n\nMichele Childs\,
  Team Lead Legislative Counsel\, Office of Legislative Counsel\n\nDomeni
 ca Padula\, Chief of Criminal Division\, Attorney General's Office\n\nMa
 tthew Raymond\, Commander\, Internet Crimes Against Children Task Force\
 n\nJennifer Poehlmann\, J.D.\, Executive Director\, Center for Crime Vic
 tim Services\n\n" - Room 30
TZID:America/New_York
UID:20260127T170030Z-uidGen@richgoldman-357e73
END:VEVENT
BEGIN:VALARM
TRIGGER:-PT15M
ACTION:DISPLAY
DESCRIPTION:H. 626 - An act relating to voyeurism and disclosure of sexua
 lly explicit images without consent\n\nWitness Testimony\n\nMichele Chil
 ds\, Team Lead Legislative Counsel\, Office of Legislative Counsel\n\nDo
 menica Padula\, Chief of Criminal Division\, Attorney General's Office\n
 \nMatthew Raymond\, Commander\, Internet Crimes Against Children Task Fo
 rce\n\nJennifer Poehlmann\, J.D.\, Executive Director\, Center for Crime
  Victim Services\n\n" - Room 30
END:VALARM
END:VCALENDAR
