BEGIN:VCALENDAR
CALSCALE:GREGORIAN
PRODID:-//Ben Fortuna//iCal4j 1.0//EN
VERSION:2.0
BEGIN:VEVENT
DTSTAMP:20260125T060512Z
DTSTART:20260127T130000
DTEND:20260127T150000
SUMMARY:S. 23 - An act relating to the use of synthetic media in election
 s\n\nCommittee Discussion\n\nRik Sehgal\, Legislative Counsel\, Office o
 f Legislative Counsel - Room M106
TZID:America/New_York
UID:20260125T060729Z-uidGen@richgoldman-357e73
END:VEVENT
BEGIN:VALARM
TRIGGER:-PT15M
ACTION:DISPLAY
DESCRIPTION:S. 23 - An act relating to the use of synthetic media in elec
 tions\n\nCommittee Discussion\n\nRik Sehgal\, Legislative Counsel\, Offi
 ce of Legislative Counsel - Room M106
END:VALARM
END:VCALENDAR
