BEGIN:VCALENDAR
CALSCALE:GREGORIAN
PRODID:-//Ben Fortuna//iCal4j 1.0//EN
VERSION:2.0
BEGIN:VEVENT
DTSTAMP:20260127T190013Z
DTSTART:20260127T130000
DTEND:20260127T150000
SUMMARY:Ethics Commission\n\nRequests\n\nPaul Erlbaum\, Commissioner\, Ve
 rmont State Ethics Commission\n\nWill Stevens\, Commission Member\, Verm
 ont State Ethics Commission\n\nThomas Jones\, Consultant\, Vermont State
  Ethics Commission\n\nPat McDonald\, President\, Campaign for Vermont - 
 Room 4
TZID:America/New_York
UID:20260127T190016Z-uidGen@richgoldman-357e73
END:VEVENT
BEGIN:VALARM
TRIGGER:-PT15M
ACTION:DISPLAY
DESCRIPTION:Ethics Commission\n\nRequests\n\nPaul Erlbaum\, Commissioner\
 , Vermont State Ethics Commission\n\nWill Stevens\, Commission Member\, 
 Vermont State Ethics Commission\n\nThomas Jones\, Consultant\, Vermont S
 tate Ethics Commission\n\nPat McDonald\, President\, Campaign for Vermon
 t - Room 4
END:VALARM
END:VCALENDAR
