BEGIN:VCALENDAR
CALSCALE:GREGORIAN
PRODID:-//Ben Fortuna//iCal4j 1.0//EN
VERSION:2.0
BEGIN:VEVENT
DTSTAMP:20260125T060512Z
DTSTART:20260127T130000
DTEND:20260127T150000
SUMMARY:FY27 Budget\n\nLanguage\n\nAdam Greshin\, Commissioner\, Departme
 nt of Finance and Management\n\nHardy Merrill\, Deputy Commissioner\, De
 partment of Finance and Management - Room 9
TZID:America/New_York
UID:20260125T060719Z-uidGen@richgoldman-357e73
END:VEVENT
BEGIN:VALARM
TRIGGER:-PT15M
ACTION:DISPLAY
DESCRIPTION:FY27 Budget\n\nLanguage\n\nAdam Greshin\, Commissioner\, Depa
 rtment of Finance and Management\n\nHardy Merrill\, Deputy Commissioner\
 , Department of Finance and Management - Room 9
END:VALARM
END:VCALENDAR
