BEGIN:VCALENDAR
CALSCALE:GREGORIAN
PRODID:-//Ben Fortuna//iCal4j 1.0//EN
VERSION:2.0
BEGIN:VEVENT
DTSTAMP:20260127T170014Z
DTSTART:20260127T112000
DTEND:20260127T132000
SUMMARY:Adjourn\n\n" - Room 1
TZID:America/New_York
UID:20260127T170023Z-uidGen@richgoldman-357e73
END:VEVENT
BEGIN:VALARM
TRIGGER:-PT15M
ACTION:DISPLAY
DESCRIPTION:Adjourn\n\n" - Room 1
END:VALARM
END:VCALENDAR
