BEGIN:VCALENDAR
CALSCALE:GREGORIAN
PRODID:-//Ben Fortuna//iCal4j 1.0//EN
VERSION:2.0
BEGIN:VEVENT
DTSTAMP:20260125T060512Z
DTSTART:20260127T110000
DTEND:20260127T130000
SUMMARY:S. 209 - An act relating to prohibiting civil arrest in sensitive
  locations\n\nWitness Testimony\n\nJon Murad\, Interim Commissioner\, De
 partment of Corrections - Invited - Room 1
TZID:America/New_York
UID:20260125T060643Z-uidGen@richgoldman-357e73
END:VEVENT
BEGIN:VALARM
TRIGGER:-PT15M
ACTION:DISPLAY
DESCRIPTION:S. 209 - An act relating to prohibiting civil arrest in sensi
 tive locations\n\nWitness Testimony\n\nJon Murad\, Interim Commissioner\
 , Department of Corrections - Invited - Room 1
END:VALARM
END:VCALENDAR
