BEGIN:VCALENDAR
CALSCALE:GREGORIAN
PRODID:-//Ben Fortuna//iCal4j 1.0//EN
VERSION:2.0
BEGIN:VEVENT
DTSTAMP:20260125T060512Z
DTSTART:20260127T110000
DTEND:20260127T130000
SUMMARY:S. 170 - An act relating to net metering rates\n\nTJ Poor\, Direc
 tor Regulated Utility Planning\, Department of Public Service - Room 8
TZID:America/New_York
UID:20260125T060644Z-uidGen@richgoldman-357e73
END:VEVENT
BEGIN:VALARM
TRIGGER:-PT15M
ACTION:DISPLAY
DESCRIPTION:S. 170 - An act relating to net metering rates\n\nTJ Poor\, D
 irector Regulated Utility Planning\, Department of Public Service - Room
  8
END:VALARM
END:VCALENDAR
