BEGIN:VCALENDAR
CALSCALE:GREGORIAN
PRODID:-//Ben Fortuna//iCal4j 1.0//EN
VERSION:2.0
BEGIN:VEVENT
DTSTAMP:20260127T170014Z
DTSTART:20260127T105000
DTEND:20260127T125000
SUMMARY:Break - Room 1
TZID:America/New_York
UID:20260127T170019Z-uidGen@richgoldman-357e73
END:VEVENT
BEGIN:VALARM
TRIGGER:-PT15M
ACTION:DISPLAY
DESCRIPTION:Break - Room 1
END:VALARM
END:VCALENDAR
