BEGIN:VCALENDAR
CALSCALE:GREGORIAN
PRODID:-//Ben Fortuna//iCal4j 1.0//EN
VERSION:2.0
BEGIN:VEVENT
DTSTAMP:20260125T060512Z
DTSTART:20260127T104500
DTEND:20260127T124500
SUMMARY:S. 174 - An act relating to the study of Green Bank models to sup
 port and accelerate investments in climate mitigation infrastructure\, f
 arming\, and agriculture in Vermont\n\nDavid Scherr\, Deputy Treasurer\,
  Office of the State Treasurer - Room 8
TZID:America/New_York
UID:20260125T060632Z-uidGen@richgoldman-357e73
END:VEVENT
BEGIN:VALARM
TRIGGER:-PT15M
ACTION:DISPLAY
DESCRIPTION:S. 174 - An act relating to the study of Green Bank models to
  support and accelerate investments in climate mitigation infrastructure
 \, farming\, and agriculture in Vermont\n\nDavid Scherr\, Deputy Treasur
 er\, Office of the State Treasurer - Room 8
END:VALARM
END:VCALENDAR
