BEGIN:VCALENDAR
CALSCALE:GREGORIAN
PRODID:-//Ben Fortuna//iCal4j 1.0//EN
VERSION:2.0
BEGIN:VEVENT
DTSTAMP:20260125T060512Z
DTSTART:20260127T103000
DTEND:20260127T123000
SUMMARY:S. 305 - An act relating to housing and land use\n\nSen. Kesha Ra
 m Hinsdale\, Chair\, Sponsor\n\nCameron Wood\, Legislative Counsel\, Off
 ice of Legislative Counsel\n\nEllen Czajkowski\, Legislative Counsel\, O
 ffice of Legislative Counsel - Room 27
TZID:America/New_York
UID:20260125T060629Z-uidGen@richgoldman-357e73
END:VEVENT
BEGIN:VALARM
TRIGGER:-PT15M
ACTION:DISPLAY
DESCRIPTION:S. 305 - An act relating to housing and land use\n\nSen. Kesh
 a Ram Hinsdale\, Chair\, Sponsor\n\nCameron Wood\, Legislative Counsel\,
  Office of Legislative Counsel\n\nEllen Czajkowski\, Legislative Counsel
 \, Office of Legislative Counsel - Room 27
END:VALARM
END:VCALENDAR
