BEGIN:VCALENDAR
CALSCALE:GREGORIAN
PRODID:-//Ben Fortuna//iCal4j 1.0//EN
VERSION:2.0
BEGIN:VEVENT
DTSTAMP:20260127T160015Z
DTSTART:20260127T103000
DTEND:20260127T123000
SUMMARY:26-0748 - An act relating to housing\n\nMark Up\n\nCameron Wood\,
  Legislative Counsel\, Office of Legislative Counsel\n\nEllen Czajkowski
 \, Legislative Counsel\, Office of Legislative Counsel - Room 27
TZID:America/New_York
UID:20260127T160026Z-uidGen@richgoldman-357e73
END:VEVENT
BEGIN:VALARM
TRIGGER:-PT15M
ACTION:DISPLAY
DESCRIPTION:26-0748 - An act relating to housing\n\nMark Up\n\nCameron Wo
 od\, Legislative Counsel\, Office of Legislative Counsel\n\nEllen Czajko
 wski\, Legislative Counsel\, Office of Legislative Counsel - Room 27
END:VALARM
END:VCALENDAR
