BEGIN:VCALENDAR
CALSCALE:GREGORIAN
PRODID:-//Ben Fortuna//iCal4j 1.0//EN
VERSION:2.0
BEGIN:VEVENT
DTSTAMP:20260127T160015Z
DTSTART:20260127T102000
DTEND:20260127T122000
SUMMARY:S. 209 - An act relating to prohibiting civil arrest in sensitive
  locations\n\nWalk through\n\nBeth St. James\, Legislative Counsel\, Off
 ice of Legislative Counsel - Room 1
TZID:America/New_York
UID:20260127T160023Z-uidGen@richgoldman-357e73
END:VEVENT
BEGIN:VALARM
TRIGGER:-PT15M
ACTION:DISPLAY
DESCRIPTION:S. 209 - An act relating to prohibiting civil arrest in sensi
 tive locations\n\nWalk through\n\nBeth St. James\, Legislative Counsel\,
  Office of Legislative Counsel - Room 1
END:VALARM
END:VCALENDAR
