BEGIN:VCALENDAR
CALSCALE:GREGORIAN
PRODID:-//Ben Fortuna//iCal4j 1.0//EN
VERSION:2.0
BEGIN:VEVENT
DTSTAMP:20260125T060512Z
DTSTART:20260127T100000
DTEND:20260127T120000
SUMMARY:S. 224 - An act relating to the management of the State’s lakes\n
 \nNicholas Storellicastro\, City Manager\, Barre City - Room 8
TZID:America/New_York
UID:20260125T060612Z-uidGen@richgoldman-357e73
END:VEVENT
BEGIN:VALARM
TRIGGER:-PT15M
ACTION:DISPLAY
DESCRIPTION:S. 224 - An act relating to the management of the State’s lak
 es\n\nNicholas Storellicastro\, City Manager\, Barre City - Room 8
END:VALARM
END:VCALENDAR
