BEGIN:VCALENDAR
CALSCALE:GREGORIAN
PRODID:-//Ben Fortuna//iCal4j 1.0//EN
VERSION:2.0
BEGIN:VEVENT
DTSTAMP:20260127T200014Z
DTSTART:20260127T153000
DTEND:20260127T173000
SUMMARY:Legislative Committee Letter of Support for CCV CEDAR Center Prop
 osal\n\nCommittee Discussion\n\n" - Room 35
TZID:America/New_York
UID:20260127T200049Z-uidGen@richgoldman-357e73
END:VEVENT
BEGIN:VALARM
TRIGGER:-PT15M
ACTION:DISPLAY
DESCRIPTION:Legislative Committee Letter of Support for CCV CEDAR Center 
 Proposal\n\nCommittee Discussion\n\n" - Room 35
END:VALARM
END:VCALENDAR
