BEGIN:VCALENDAR
CALSCALE:GREGORIAN
PRODID:-//Ben Fortuna//iCal4j 1.0//EN
VERSION:2.0
BEGIN:VEVENT
DTSTAMP:20260125T060512Z
DTSTART:20260127T095000
DTEND:20260127T115000
SUMMARY:Governor's 2027 Budget Address\n\nWalk through budgets impact on 
 26-0748.\n\nPatrick Titterton\, Senior Fiscal Analyst\, Joint Fiscal Off
 ice - Invited - Room 27
TZID:America/New_York
UID:20260125T060539Z-uidGen@richgoldman-357e73
END:VEVENT
BEGIN:VALARM
TRIGGER:-PT15M
ACTION:DISPLAY
DESCRIPTION:Governor's 2027 Budget Address\n\nWalk through budgets impact
  on 26-0748.\n\nPatrick Titterton\, Senior Fiscal Analyst\, Joint Fiscal
  Office - Invited - Room 27
END:VALARM
END:VCALENDAR
