BEGIN:VCALENDAR
CALSCALE:GREGORIAN
PRODID:-//Ben Fortuna//iCal4j 1.0//EN
VERSION:2.0
BEGIN:VEVENT
DTSTAMP:20260127T150030Z
DTSTART:20260127T095000
DTEND:20260127T115000
SUMMARY:FY27 Budget Discussion\n\nWalk-through budget's impact on 26-0748
 \n\nPatrick Titterton\, Senior Fiscal Analyst\, Joint Fiscal Office\n\nT
 ed Barnett\, Fiscal Analyst\, Joint Fiscal Office - Room 27
TZID:America/New_York
UID:20260127T150032Z-uidGen@richgoldman-357e73
END:VEVENT
BEGIN:VALARM
TRIGGER:-PT15M
ACTION:DISPLAY
DESCRIPTION:FY27 Budget Discussion\n\nWalk-through budget's impact on 26-
 0748\n\nPatrick Titterton\, Senior Fiscal Analyst\, Joint Fiscal Office\
 n\nTed Barnett\, Fiscal Analyst\, Joint Fiscal Office - Room 27
END:VALARM
END:VCALENDAR
