BEGIN:VCALENDAR
CALSCALE:GREGORIAN
PRODID:-//Ben Fortuna//iCal4j 1.0//EN
VERSION:2.0
BEGIN:VEVENT
DTSTAMP:20260125T060513Z
DTSTART:20260127T151500
DTEND:20260127T171500
SUMMARY:Federal Impacts\n\nProvider Tax\n\nJennifer Carbee\, Deputy Chief
  Counsel\, Office of Legislative Counsel\n\nNolan Langweil\, Principal F
 iscal Analyst\, Joint Fiscal Office\n\n" - Room 45
TZID:America/New_York
UID:20260125T060855Z-uidGen@richgoldman-357e73
END:VEVENT
BEGIN:VALARM
TRIGGER:-PT15M
ACTION:DISPLAY
DESCRIPTION:Federal Impacts\n\nProvider Tax\n\nJennifer Carbee\, Deputy C
 hief Counsel\, Office of Legislative Counsel\n\nNolan Langweil\, Princip
 al Fiscal Analyst\, Joint Fiscal Office\n\n" - Room 45
END:VALARM
END:VCALENDAR
