BEGIN:VCALENDAR
CALSCALE:GREGORIAN
PRODID:-//Ben Fortuna//iCal4j 1.0//EN
VERSION:2.0
BEGIN:VEVENT
DTSTAMP:20260126T180014Z
DTSTART:20260127T093000
DTEND:20260127T113000
SUMMARY:H. 648 - An act relating to banking\, insurance\, and securities\
 n\nWalk-through and possible vote\n\nMaria Royle\, Legislative Counsel\,
  Office of Legislative Counsel\n\nPatrick Titterton\, Senior Fiscal Anal
 yst\, Joint Fiscal Office - Room 9
TZID:America/New_York
UID:20260126T180015Z-uidGen@richgoldman-357e73
END:VEVENT
BEGIN:VALARM
TRIGGER:-PT15M
ACTION:DISPLAY
DESCRIPTION:H. 648 - An act relating to banking\, insurance\, and securit
 ies\n\nWalk-through and possible vote\n\nMaria Royle\, Legislative Couns
 el\, Office of Legislative Counsel\n\nPatrick Titterton\, Senior Fiscal 
 Analyst\, Joint Fiscal Office - Room 9
END:VALARM
END:VCALENDAR
