BEGIN:VCALENDAR
CALSCALE:GREGORIAN
PRODID:-//Ben Fortuna//iCal4j 1.0//EN
VERSION:2.0
BEGIN:VEVENT
DTSTAMP:20260127T210013Z
DTSTART:20260127T150000
DTEND:20260127T170000
SUMMARY:Sheriff Transport\n\nTim Lueders-Dumont\, Esq.\, Executive Direct
 or\, Department of State's Attorneys and Sheriffs\n\nLauren Clemons\, Di
 rector of Labor Relations and Operations\, Department of State's Attorne
 ys and Sheriffs\n\nJennifer Harlow\, President\, Vermont Sheriffs' Assoc
 iation\n\nSheriff Mark Anderson\, Former President\, Vermont Sheriffs' A
 ssociation - Room 34
TZID:America/New_York
UID:20260127T210023Z-uidGen@richgoldman-357e73
END:VEVENT
BEGIN:VALARM
TRIGGER:-PT15M
ACTION:DISPLAY
DESCRIPTION:Sheriff Transport\n\nTim Lueders-Dumont\, Esq.\, Executive Di
 rector\, Department of State's Attorneys and Sheriffs\n\nLauren Clemons\
 , Director of Labor Relations and Operations\, Department of State's Att
 orneys and Sheriffs\n\nJennifer Harlow\, President\, Vermont Sheriffs' A
 ssociation\n\nSheriff Mark Anderson\, Former President\, Vermont Sheriff
 s' Association - Room 34
END:VALARM
END:VCALENDAR
