BEGIN:VCALENDAR
CALSCALE:GREGORIAN
PRODID:-//Ben Fortuna//iCal4j 1.0//EN
VERSION:2.0
BEGIN:VEVENT
DTSTAMP:20260125T060513Z
DTSTART:20260127T151500
DTEND:20260127T171500
SUMMARY:Agency of Transportation FY27 Budget\n\nEnvironmental Policy and 
 Sustainability Budget\n\nAndrea Wright\, Manager\, Environmental Policy 
 and Sustainability\, Agency of Transportation\n\n" - Room 43
TZID:America/New_York
UID:20260125T060852Z-uidGen@richgoldman-357e73
END:VEVENT
BEGIN:VALARM
TRIGGER:-PT15M
ACTION:DISPLAY
DESCRIPTION:Agency of Transportation FY27 Budget\n\nEnvironmental Policy 
 and Sustainability Budget\n\nAndrea Wright\, Manager\, Environmental Pol
 icy and Sustainability\, Agency of Transportation\n\n" - Room 43
END:VALARM
END:VCALENDAR
