BEGIN:VCALENDAR
CALSCALE:GREGORIAN
PRODID:-//Ben Fortuna//iCal4j 1.0//EN
VERSION:2.0
BEGIN:VEVENT
DTSTAMP:20260127T200014Z
DTSTART:20260127T150000
DTEND:20260127T170000
SUMMARY:Vermont Training Program\n\nDoug Hoffer\, State Auditor\, State A
 uditor's Office - Zoom - Room 35
TZID:America/New_York
UID:20260127T200045Z-uidGen@richgoldman-357e73
END:VEVENT
BEGIN:VALARM
TRIGGER:-PT15M
ACTION:DISPLAY
DESCRIPTION:Vermont Training Program\n\nDoug Hoffer\, State Auditor\, Sta
 te Auditor's Office - Zoom - Room 35
END:VALARM
END:VCALENDAR
