BEGIN:VCALENDAR
CALSCALE:GREGORIAN
PRODID:-//Ben Fortuna//iCal4j 1.0//EN
VERSION:2.0
BEGIN:VEVENT
DTSTAMP:20260125T060513Z
DTSTART:20260127T150000
DTEND:20260127T170000
SUMMARY:Committee Discussion - Room 49
TZID:America/New_York
UID:20260125T060841Z-uidGen@richgoldman-357e73
END:VEVENT
BEGIN:VALARM
TRIGGER:-PT15M
ACTION:DISPLAY
DESCRIPTION:Committee Discussion - Room 49
END:VALARM
END:VCALENDAR
