BEGIN:VCALENDAR
CALSCALE:GREGORIAN
PRODID:-//Ben Fortuna//iCal4j 1.0//EN
VERSION:2.0
BEGIN:VEVENT
DTSTAMP:20260127T150030Z
DTSTART:20260127T150000
DTEND:20260127T170000
SUMMARY:Agency of Transportation FY27 Budget\n\nBridge Program Budget\n\n
 Jennifer Fitch\, Project Directory Bureau Director\, Agency of Transport
 ation\n\nJim Lacroix\, Structures Program Manager\, Agency of Transporta
 tion\n\nRob White\, Technical Services Bureau Director\, Agency of Trans
 portation\n\n" - Room 43
TZID:America/New_York
UID:20260127T150050Z-uidGen@richgoldman-357e73
END:VEVENT
BEGIN:VALARM
TRIGGER:-PT15M
ACTION:DISPLAY
DESCRIPTION:Agency of Transportation FY27 Budget\n\nBridge Program Budget
 \n\nJennifer Fitch\, Project Directory Bureau Director\, Agency of Trans
 portation\n\nJim Lacroix\, Structures Program Manager\, Agency of Transp
 ortation\n\nRob White\, Technical Services Bureau Director\, Agency of T
 ransportation\n\n" - Room 43
END:VALARM
END:VCALENDAR
