BEGIN:VCALENDAR
CALSCALE:GREGORIAN
PRODID:-//Ben Fortuna//iCal4j 1.0//EN
VERSION:2.0
BEGIN:VEVENT
DTSTAMP:20260127T200014Z
DTSTART:20260127T142000
DTEND:20260127T162000
SUMMARY:H. 757 - An act relating to manufactured homes and limited equity
  cooperatives\n\nJeremiah Ward\, Cooperative Development Specialist\, Co
 operative Development Institute\n\nRaechel MCleod\, Regulatory Program C
 oordinator\, EastRise Credit Union\n\nEd Fitzpatrick\, Bergeron\, Paradi
 s\, & Fitzpatrick Legal\n\nAlexander Shriver\, Partner\, Philips\, Dunn\
 , Shriver\, & Carroll\, P.C. - Zoom\n\n" - Room 31
TZID:America/New_York
UID:20260127T200033Z-uidGen@richgoldman-357e73
END:VEVENT
BEGIN:VALARM
TRIGGER:-PT15M
ACTION:DISPLAY
DESCRIPTION:H. 757 - An act relating to manufactured homes and limited eq
 uity cooperatives\n\nJeremiah Ward\, Cooperative Development Specialist\
 , Cooperative Development Institute\n\nRaechel MCleod\, Regulatory Progr
 am Coordinator\, EastRise Credit Union\n\nEd Fitzpatrick\, Bergeron\, Pa
 radis\, & Fitzpatrick Legal\n\nAlexander Shriver\, Partner\, Philips\, D
 unn\, Shriver\, & Carroll\, P.C. - Zoom\n\n" - Room 31
END:VALARM
END:VCALENDAR
