BEGIN:VCALENDAR
CALSCALE:GREGORIAN
PRODID:-//Ben Fortuna//iCal4j 1.0//EN
VERSION:2.0
BEGIN:VEVENT
DTSTAMP:20260127T030014Z
DTSTART:20260127T141500
DTEND:20260127T161500
SUMMARY:Municipal Regulation of Agriculture\n\nStakeholder Testimony\n\nM
 ichelle Monroe\, Executive Director\, Vermont Association of Conservatio
 n Districts\n\nJake Claro\, Farm to Plate Network Director\, Vermont Sus
 tainable Jobs Fund\n\nJean Hamilton\, Director of Program Development\, 
 Land Access and Opportunity Board\n\nOrnella Matta-Figueroa\, Director o
 f Advocacy and Community Engagement\, Land Access and Opportunity Board 
 - Room 49
TZID:America/New_York
UID:20260127T030016Z-uidGen@richgoldman-357e73
END:VEVENT
BEGIN:VALARM
TRIGGER:-PT15M
ACTION:DISPLAY
DESCRIPTION:Municipal Regulation of Agriculture\n\nStakeholder Testimony\
 n\nMichelle Monroe\, Executive Director\, Vermont Association of Conserv
 ation Districts\n\nJake Claro\, Farm to Plate Network Director\, Vermont
  Sustainable Jobs Fund\n\nJean Hamilton\, Director of Program Developmen
 t\, Land Access and Opportunity Board\n\nOrnella Matta-Figueroa\, Direct
 or of Advocacy and Community Engagement\, Land Access and Opportunity Bo
 ard - Room 49
END:VALARM
END:VCALENDAR
