BEGIN:VCALENDAR
CALSCALE:GREGORIAN
PRODID:-//Ben Fortuna//iCal4j 1.0//EN
VERSION:2.0
BEGIN:VEVENT
DTSTAMP:20260126T160014Z
DTSTART:20260127T141500
DTEND:20260127T161500
SUMMARY:H. 757 - An act relating to manufactured homes and limited equity
  cooperatives\n\nJeremiah Ward\, Cooperative Development Specialist\, Co
 operative Development Institute\n\nRachel MCleod\, Regulatory Program Co
 ordinator\, EastRise Credit Union\n\nEd Fitzpatrick\, Bergeron\, Paradis
 \, & Fitzpatrick Legal\n\n" - Room 31
TZID:America/New_York
UID:20260126T160017Z-uidGen@richgoldman-357e73
END:VEVENT
BEGIN:VALARM
TRIGGER:-PT15M
ACTION:DISPLAY
DESCRIPTION:H. 757 - An act relating to manufactured homes and limited eq
 uity cooperatives\n\nJeremiah Ward\, Cooperative Development Specialist\
 , Cooperative Development Institute\n\nRachel MCleod\, Regulatory Progra
 m Coordinator\, EastRise Credit Union\n\nEd Fitzpatrick\, Bergeron\, Par
 adis\, & Fitzpatrick Legal\n\n" - Room 31
END:VALARM
END:VCALENDAR
