BEGIN:VCALENDAR
CALSCALE:GREGORIAN
PRODID:-//Ben Fortuna//iCal4j 1.0//EN
VERSION:2.0
BEGIN:VEVENT
DTSTAMP:20260125T060513Z
DTSTART:20260127T151500
DTEND:20260127T171500
SUMMARY:FY27 Budget\n\nCommittee Discussion with House Appropriations\n\n
 Rep. Martha Feltus\, Representative\, House Committee on Appropriations\
 n\nRep. John Kascenska\, Representative\, House Committee on Appropriati
 ons\n\n" - Room 32
TZID:America/New_York
UID:20260125T060851Z-uidGen@richgoldman-357e73
END:VEVENT
BEGIN:VALARM
TRIGGER:-PT15M
ACTION:DISPLAY
DESCRIPTION:FY27 Budget\n\nCommittee Discussion with House Appropriations
 \n\nRep. Martha Feltus\, Representative\, House Committee on Appropriati
 ons\n\nRep. John Kascenska\, Representative\, House Committee on Appropr
 iations\n\n" - Room 32
END:VALARM
END:VCALENDAR
