BEGIN:VCALENDAR
CALSCALE:GREGORIAN
PRODID:-//Ben Fortuna//iCal4j 1.0//EN
VERSION:2.0
BEGIN:VEVENT
DTSTAMP:20260127T210013Z
DTSTART:20260127T151500
DTEND:20260127T171500
SUMMARY:FY27 Budget Discussion\n\nCommittee Discussion with House Appropr
 iations\n\nRep. John Kascenska\, Representative\, House Committee on App
 ropriations\n\n" - Room 32
TZID:America/New_York
UID:20260127T210028Z-uidGen@richgoldman-357e73
END:VEVENT
BEGIN:VALARM
TRIGGER:-PT15M
ACTION:DISPLAY
DESCRIPTION:FY27 Budget Discussion\n\nCommittee Discussion with House App
 ropriations\n\nRep. John Kascenska\, Representative\, House Committee on
  Appropriations\n\n" - Room 32
END:VALARM
END:VCALENDAR
