BEGIN:VCALENDAR
CALSCALE:GREGORIAN
PRODID:-//Ben Fortuna//iCal4j 1.0//EN
VERSION:2.0
BEGIN:VEVENT
DTSTAMP:20260127T200014Z
DTSTART:20260127T141900
DTEND:20260127T161900
SUMMARY:Agency of Transportation FY27 Budget\n\nAviation Program Budget\n
 \nEvan Robinson\, Aviation Program Manager\, Agency of Transportation - 
 Room 43
TZID:America/New_York
UID:20260127T200030Z-uidGen@richgoldman-357e73
END:VEVENT
BEGIN:VALARM
TRIGGER:-PT15M
ACTION:DISPLAY
DESCRIPTION:Agency of Transportation FY27 Budget\n\nAviation Program Budg
 et\n\nEvan Robinson\, Aviation Program Manager\, Agency of Transportatio
 n - Room 43
END:VALARM
END:VCALENDAR
