BEGIN:VCALENDAR
CALSCALE:GREGORIAN
PRODID:-//Ben Fortuna//iCal4j 1.0//EN
VERSION:2.0
BEGIN:VEVENT
DTSTAMP:20260125T060512Z
DTSTART:20260127T140000
DTEND:20260127T160000
SUMMARY:H. 540 - An act relating to the recommendations of the Post-Adjud
 ication Reparative Program Working Group\n\nWorking Group Testimony\n\nJ
 udge Thomas Zonay\, Chief Superior Judge\, Vermont Judiciary\n\nDerek Mi
 odownik\, Community and Restorative Justice Executive\, Department of Co
 rrections\n\nHillary Chutter-Ames\, Legislative Counsel\, Office of Legi
 slative Counsel - Room 34
TZID:America/New_York
UID:20260125T060803Z-uidGen@richgoldman-357e73
END:VEVENT
BEGIN:VALARM
TRIGGER:-PT15M
ACTION:DISPLAY
DESCRIPTION:H. 540 - An act relating to the recommendations of the Post-A
 djudication Reparative Program Working Group\n\nWorking Group Testimony\
 n\nJudge Thomas Zonay\, Chief Superior Judge\, Vermont Judiciary\n\nDere
 k Miodownik\, Community and Restorative Justice Executive\, Department o
 f Corrections\n\nHillary Chutter-Ames\, Legislative Counsel\, Office of 
 Legislative Counsel - Room 34
END:VALARM
END:VCALENDAR
