BEGIN:VCALENDAR
CALSCALE:GREGORIAN
PRODID:-//Ben Fortuna//iCal4j 1.0//EN
VERSION:2.0
BEGIN:VEVENT
DTSTAMP:20260126T170012Z
DTSTART:20260127T140000
DTEND:20260127T160000
SUMMARY:H. 594 - An act relating to establishing the Temporary Emergency 
 Housing and Accountability Program and the Return Home Program in fiscal
  years 2027 and 2028\n\nJonathan Farrell\, Executive Director\, Committe
 e on Temporary Shelter (COTS)\n\nAngus Chaney\, Executive Director\, Hom
 eless Prevention Center\, Rutland\n\nJulie Bond\, Co-Executive Director\
 , Good Samaritan Haven\, Barre\n\nRoxanne Carelli\, Executive Director o
 f Operational Development and Shelter Services\, Bennington County Coali
 tion for the Homeless\n\nJeanne Montross\, Executive Director\, Helping 
 Overcome Poverty's Effects (HOPE)\n\n" - Room 46
TZID:America/New_York
UID:20260126T170013Z-uidGen@richgoldman-357e73
END:VEVENT
BEGIN:VALARM
TRIGGER:-PT15M
ACTION:DISPLAY
DESCRIPTION:H. 594 - An act relating to establishing the Temporary Emerge
 ncy Housing and Accountability Program and the Return Home Program in fi
 scal years 2027 and 2028\n\nJonathan Farrell\, Executive Director\, Comm
 ittee on Temporary Shelter (COTS)\n\nAngus Chaney\, Executive Director\,
  Homeless Prevention Center\, Rutland\n\nJulie Bond\, Co-Executive Direc
 tor\, Good Samaritan Haven\, Barre\n\nRoxanne Carelli\, Executive Direct
 or of Operational Development and Shelter Services\, Bennington County C
 oalition for the Homeless\n\nJeanne Montross\, Executive Director\, Help
 ing Overcome Poverty's Effects (HOPE)\n\n" - Room 46
END:VALARM
END:VCALENDAR
