BEGIN:VCALENDAR
CALSCALE:GREGORIAN
PRODID:-//Ben Fortuna//iCal4j 1.0//EN
VERSION:2.0
BEGIN:VEVENT
DTSTAMP:20260125T060512Z
DTSTART:20260127T141500
DTEND:20260127T161500
SUMMARY:Agency of Transportation FY27 Budget\n\nAviation Program Budget\n
 \nEvan Robinson\, Aviation Program Manager\, Agency of Transportation\n\
 nJohn Nummy\, Senior Project Manager\, Agency of Transportation - Room 4
 3
TZID:America/New_York
UID:20260125T060826Z-uidGen@richgoldman-357e73
END:VEVENT
BEGIN:VALARM
TRIGGER:-PT15M
ACTION:DISPLAY
DESCRIPTION:Agency of Transportation FY27 Budget\n\nAviation Program Budg
 et\n\nEvan Robinson\, Aviation Program Manager\, Agency of Transportatio
 n\n\nJohn Nummy\, Senior Project Manager\, Agency of Transportation - Ro
 om 43
END:VALARM
END:VCALENDAR
