BEGIN:VCALENDAR
CALSCALE:GREGORIAN
PRODID:-//Ben Fortuna//iCal4j 1.0//EN
VERSION:2.0
BEGIN:VEVENT
DTSTAMP:20260127T190013Z
DTSTART:20260127T140000
DTEND:20260127T160000
SUMMARY:FY27 Agency Budget Requests\n\nDigital Services 2026 Annual Repor
 t\, Enterprise Project Management Office Dashboard\n\nDenise Reilly-Hugh
 es\, Secretary\, Agency of Digital Services\n\nLisa Gauvin\, IT Consulta
 nt\, Joint Fiscal Office\n\n" - Room 7
TZID:America/New_York
UID:20260127T190027Z-uidGen@richgoldman-357e73
END:VEVENT
BEGIN:VALARM
TRIGGER:-PT15M
ACTION:DISPLAY
DESCRIPTION:FY27 Agency Budget Requests\n\nDigital Services 2026 Annual R
 eport\, Enterprise Project Management Office Dashboard\n\nDenise Reilly-
 Hughes\, Secretary\, Agency of Digital Services\n\nLisa Gauvin\, IT Cons
 ultant\, Joint Fiscal Office\n\n" - Room 7
END:VALARM
END:VCALENDAR
