BEGIN:VCALENDAR
CALSCALE:GREGORIAN
PRODID:-//Ben Fortuna//iCal4j 1.0//EN
VERSION:2.0
BEGIN:VEVENT
DTSTAMP:20260125T060512Z
DTSTART:20260127T133000
DTEND:20260127T153000
SUMMARY:Yield Bill\n\nJulia Richter\, Principal Fiscal Analyst\, Joint Fi
 scal Office - Room 45
TZID:America/New_York
UID:20260125T060751Z-uidGen@richgoldman-357e73
END:VEVENT
BEGIN:VALARM
TRIGGER:-PT15M
ACTION:DISPLAY
DESCRIPTION:Yield Bill\n\nJulia Richter\, Principal Fiscal Analyst\, Join
 t Fiscal Office - Room 45
END:VALARM
END:VCALENDAR
