BEGIN:VCALENDAR
CALSCALE:GREGORIAN
PRODID:-//Ben Fortuna//iCal4j 1.0//EN
VERSION:2.0
BEGIN:VEVENT
DTSTAMP:20260126T190012Z
DTSTART:20260127T131500
DTEND:20260127T151500
SUMMARY:School Budgets Update\n\nTed Gates\, Education Finance Manager\, 
 Agency of Education\n\nKelly Murphy\, Director of Education Finance\, Ag
 ency of Education - Room 45
TZID:America/New_York
UID:20260126T190020Z-uidGen@richgoldman-357e73
END:VEVENT
BEGIN:VALARM
TRIGGER:-PT15M
ACTION:DISPLAY
DESCRIPTION:School Budgets Update\n\nTed Gates\, Education Finance Manage
 r\, Agency of Education\n\nKelly Murphy\, Director of Education Finance\
 , Agency of Education - Room 45
END:VALARM
END:VCALENDAR
