BEGIN:VCALENDAR
CALSCALE:GREGORIAN
PRODID:-//Ben Fortuna//iCal4j 1.0//EN
VERSION:2.0
BEGIN:VEVENT
DTSTAMP:20260127T190013Z
DTSTART:20260127T131000
DTEND:20260127T151000
SUMMARY:H. 385 - An act relating to remedies and protections for victims 
 of coerced debt\n\nStrike-all Amendment Walk-through and Testimony\n\nMa
 ria Royle\, Legislative Counsel\, Office of Legislative Counsel\n\nJoe V
 alenti\, Director of Policy\, Department of Financial Regulation\n\nChar
 lie Gliserman\, Director of Policy\, Vermont Network Against Domestic & 
 Sexual Violence\n\nCarla Sanchez-Adams\, Senior Attorney\, National Cons
 umer Law Center - Zoom\n\nChristopher Curtis\, Director\, Consumer Assis
 tance Program\, Vermont Attorney General's Office\n\nLaura Bierley\, VRP
  Project Director\, Vermont Legal Aid - Zoom - Room 35
TZID:America/New_York
UID:20260127T190020Z-uidGen@richgoldman-357e73
END:VEVENT
BEGIN:VALARM
TRIGGER:-PT15M
ACTION:DISPLAY
DESCRIPTION:H. 385 - An act relating to remedies and protections for vict
 ims of coerced debt\n\nStrike-all Amendment Walk-through and Testimony\n
 \nMaria Royle\, Legislative Counsel\, Office of Legislative Counsel\n\nJ
 oe Valenti\, Director of Policy\, Department of Financial Regulation\n\n
 Charlie Gliserman\, Director of Policy\, Vermont Network Against Domesti
 c & Sexual Violence\n\nCarla Sanchez-Adams\, Senior Attorney\, National 
 Consumer Law Center - Zoom\n\nChristopher Curtis\, Director\, Consumer A
 ssistance Program\, Vermont Attorney General's Office\n\nLaura Bierley\,
  VRP Project Director\, Vermont Legal Aid - Zoom - Room 35
END:VALARM
END:VCALENDAR
