BEGIN:VCALENDAR
CALSCALE:GREGORIAN
PRODID:-//Ben Fortuna//iCal4j 1.0//EN
VERSION:2.0
BEGIN:VEVENT
DTSTAMP:20260125T060512Z
DTSTART:20260127T130000
DTEND:20260127T150000
SUMMARY:Budget Process\n\nJames Duffy\, Fiscal Analyst\, Joint Fiscal Off
 ice - Invited - Room 34
TZID:America/New_York
UID:20260125T060722Z-uidGen@richgoldman-357e73
END:VEVENT
BEGIN:VALARM
TRIGGER:-PT15M
ACTION:DISPLAY
DESCRIPTION:Budget Process\n\nJames Duffy\, Fiscal Analyst\, Joint Fiscal
  Office - Invited - Room 34
END:VALARM
END:VCALENDAR
