BEGIN:VCALENDAR
CALSCALE:GREGORIAN
PRODID:-//Ben Fortuna//iCal4j 1.0//EN
VERSION:2.0
BEGIN:VEVENT
DTSTAMP:20260126T200014Z
DTSTART:20260127T130000
DTEND:20260127T150000
SUMMARY:H. 385 - An act relating to remedies and protections for victims 
 of coerced debt\n\nStrike-all Amendment Walk-through\n\nMaria Royle\, Le
 gislative Counsel\, Office of Legislative Counsel\n\nJoe Valenti\, Direc
 tor of Policy\, Department of Financial Regulation\n\nCharlie Gliserman\
 , Director of Policy\, Vermont Network Against Domestic & Sexual Violenc
 e\n\nCarla Sanchez-Adams\, Senior Attorney\, National Consumer Law Cente
 r\n\nChristopher Curtis\, Director\, Consumer Assistance Program\, Vermo
 nt Attorney General's Office - Invited\n\nTodd Daloz\, Director of Polic
 y and Legislative Affairs\, Attorney General's Office\n\nLaura Bierley\,
  VRP Project Director\, Vermont Legal Aid - Zoom - Room 35
TZID:America/New_York
UID:20260126T200019Z-uidGen@richgoldman-357e73
END:VEVENT
BEGIN:VALARM
TRIGGER:-PT15M
ACTION:DISPLAY
DESCRIPTION:H. 385 - An act relating to remedies and protections for vict
 ims of coerced debt\n\nStrike-all Amendment Walk-through\n\nMaria Royle\
 , Legislative Counsel\, Office of Legislative Counsel\n\nJoe Valenti\, D
 irector of Policy\, Department of Financial Regulation\n\nCharlie Gliser
 man\, Director of Policy\, Vermont Network Against Domestic & Sexual Vio
 lence\n\nCarla Sanchez-Adams\, Senior Attorney\, National Consumer Law C
 enter\n\nChristopher Curtis\, Director\, Consumer Assistance Program\, V
 ermont Attorney General's Office - Invited\n\nTodd Daloz\, Director of P
 olicy and Legislative Affairs\, Attorney General's Office\n\nLaura Bierl
 ey\, VRP Project Director\, Vermont Legal Aid - Zoom - Room 35
END:VALARM
END:VCALENDAR
