BEGIN:VCALENDAR
CALSCALE:GREGORIAN
PRODID:-//Ben Fortuna//iCal4j 1.0//EN
VERSION:2.0
BEGIN:VEVENT
DTSTAMP:20260127T030014Z
DTSTART:20260127T130000
DTEND:20260127T150000
SUMMARY:Federal Delegation\n\nUpdates from the offices of Senator Sanders
 \, Senator Welch\, and Representative Balint\n\nThomas Renner\, Communit
 y Liaison\, Office of Congresswoman Becca Balint\n\nMiles McGuriman\, Po
 licy Analyst\, Office of Senator Peter Welch - Room 49
TZID:America/New_York
UID:20260127T030014Z-uidGen@richgoldman-357e73
END:VEVENT
BEGIN:VALARM
TRIGGER:-PT15M
ACTION:DISPLAY
DESCRIPTION:Federal Delegation\n\nUpdates from the offices of Senator San
 ders\, Senator Welch\, and Representative Balint\n\nThomas Renner\, Comm
 unity Liaison\, Office of Congresswoman Becca Balint\n\nMiles McGuriman\
 , Policy Analyst\, Office of Senator Peter Welch - Room 49
END:VALARM
END:VCALENDAR
