BEGIN:VCALENDAR
CALSCALE:GREGORIAN
PRODID:-//Ben Fortuna//iCal4j 1.0//EN
VERSION:2.0
BEGIN:VEVENT
DTSTAMP:20260125T060512Z
DTSTART:20260127T130000
DTEND:20260127T150000
SUMMARY:H. 583 - An act relating to health care financial transactions an
 d clinical decision making\n\nTestimony\n\nChip Holmes\, Ovation Health 
 Care\n\nJessa Barnard\, Executive Director\, Vermont Medical Society\n\n
 Michael Fenne\, J.D.\, Senior Research and Campaign Coordinator\, Privat
 e Equity Stakeholder Project (PESP) - Zoom\n\nChris D'Elia\, President\,
  Vermont Bankers' Association - Invited\n\nSusan Ridzon\, Executive Dire
 ctor\, Healthfirst\, Inc. - Invited - Room 42
TZID:America/New_York
UID:20260125T060730Z-uidGen@richgoldman-357e73
END:VEVENT
BEGIN:VALARM
TRIGGER:-PT15M
ACTION:DISPLAY
DESCRIPTION:H. 583 - An act relating to health care financial transaction
 s and clinical decision making\n\nTestimony\n\nChip Holmes\, Ovation Hea
 lth Care\n\nJessa Barnard\, Executive Director\, Vermont Medical Society
 \n\nMichael Fenne\, J.D.\, Senior Research and Campaign Coordinator\, Pr
 ivate Equity Stakeholder Project (PESP) - Zoom\n\nChris D'Elia\, Preside
 nt\, Vermont Bankers' Association - Invited\n\nSusan Ridzon\, Executive 
 Director\, Healthfirst\, Inc. - Invited - Room 42
END:VALARM
END:VCALENDAR
