BEGIN:VCALENDAR
CALSCALE:GREGORIAN
PRODID:-//Ben Fortuna//iCal4j 1.0//EN
VERSION:2.0
BEGIN:VEVENT
DTSTAMP:20260127T190013Z
DTSTART:20260127T130000
DTEND:20260127T150000
SUMMARY:Vermont Veterans' Home\n\nSteve McClafferty\, Finance Director\, 
 Vermont Veterans' Home\n\nMelissa Jackson\, Chief Executive Officer\, Ve
 rmont Veterans' Home\n\nGreg Krizan\, Director of Environmental Services
 \, Vermont Veterans' Home - Room 7
TZID:America/New_York
UID:20260127T190017Z-uidGen@richgoldman-357e73
END:VEVENT
BEGIN:VALARM
TRIGGER:-PT15M
ACTION:DISPLAY
DESCRIPTION:Vermont Veterans' Home\n\nSteve McClafferty\, Finance Directo
 r\, Vermont Veterans' Home\n\nMelissa Jackson\, Chief Executive Officer\
 , Vermont Veterans' Home\n\nGreg Krizan\, Director of Environmental Serv
 ices\, Vermont Veterans' Home - Room 7
END:VALARM
END:VCALENDAR
