BEGIN:VCALENDAR
CALSCALE:GREGORIAN
PRODID:-//Ben Fortuna//iCal4j 1.0//EN
VERSION:2.0
BEGIN:VEVENT
DTSTAMP:20260125T060512Z
DTSTART:20260127T130000
DTEND:20260127T150000
SUMMARY:Agency of Transportation FY27 Budget\n\nPaving\, Roadway\, Traffi
 c and Safety Programs Budget\n\nJennifer Fitch\, Project Directory Burea
 u Director\, Agency of Transportation\n\nMatt Bogaczyk\, Highway Safety 
 and Design Program Manager\, Agency of Transportation\n\nRob White\, Tec
 hnical Services Bureau Director\, Agency of Transportation - Room 43
TZID:America/New_York
UID:20260125T060736Z-uidGen@richgoldman-357e73
END:VEVENT
BEGIN:VALARM
TRIGGER:-PT15M
ACTION:DISPLAY
DESCRIPTION:Agency of Transportation FY27 Budget\n\nPaving\, Roadway\, Tr
 affic and Safety Programs Budget\n\nJennifer Fitch\, Project Directory B
 ureau Director\, Agency of Transportation\n\nMatt Bogaczyk\, Highway Saf
 ety and Design Program Manager\, Agency of Transportation\n\nRob White\,
  Technical Services Bureau Director\, Agency of Transportation - Room 43
 
END:VALARM
END:VCALENDAR
