BEGIN:VCALENDAR
CALSCALE:GREGORIAN
PRODID:-//Ben Fortuna//iCal4j 1.0//EN
VERSION:2.0
BEGIN:VEVENT
DTSTAMP:20260125T060512Z
DTSTART:20260127T134500
DTEND:20260127T154500
SUMMARY:Department of Public Service Annual Energy Report Overview\n\nTJ 
 Poor\, Director Regulated Utility Planning\, Department of Public Servic
 e - Room 32
TZID:America/New_York
UID:20260125T060755Z-uidGen@richgoldman-357e73
END:VEVENT
BEGIN:VALARM
TRIGGER:-PT15M
ACTION:DISPLAY
DESCRIPTION:Department of Public Service Annual Energy Report Overview\n\
 nTJ Poor\, Director Regulated Utility Planning\, Department of Public Se
 rvice - Room 32
END:VALARM
END:VCALENDAR
