BEGIN:VCALENDAR
CALSCALE:GREGORIAN
PRODID:-//Ben Fortuna//iCal4j 1.0//EN
VERSION:2.0
BEGIN:VEVENT
DTSTAMP:20260120T150010Z
DTSTART:20260120T093000
DTEND:20260120T113000
SUMMARY:Committee Discussion\n\nBudget memo to policy committees - Room 9
 
TZID:America/New_York
UID:20260120T150010Z-uidGen@richgoldman-357e73
END:VEVENT
BEGIN:VALARM
TRIGGER:-PT15M
ACTION:DISPLAY
DESCRIPTION:Committee Discussion\n\nBudget memo to policy committees - Ro
 om 9
END:VALARM
END:VCALENDAR
