BEGIN:VCALENDAR
CALSCALE:GREGORIAN
PRODID:-//Ben Fortuna//iCal4j 1.0//EN
VERSION:2.0
BEGIN:VEVENT
DTSTAMP:20260120T160010Z
DTSTART:20260120T104000
DTEND:20260120T124000
SUMMARY:Agency of Transportation Updates\n\nUpdate on Public Transit Non-
 Emergency Medical Transportation Program\, Older Adults and Person's wit
 h Disabilities Transportation\, Job Access Transportation Program\n\nRos
 s MacDonald\, Public Transit Program Manager\, Agency of Transportation\
 n\nAaron Frank\, Town Manager of Colchester\n\nCaleb Grant\, Chair\, Ver
 mont Public Transportation Association\n\nClayton Clark\, General Manage
 r\, Green Mountain Transit - Room 3
TZID:America/New_York
UID:20260120T160024Z-uidGen@richgoldman-357e73
END:VEVENT
BEGIN:VALARM
TRIGGER:-PT15M
ACTION:DISPLAY
DESCRIPTION:Agency of Transportation Updates\n\nUpdate on Public Transit 
 Non-Emergency Medical Transportation Program\, Older Adults and Person's
  with Disabilities Transportation\, Job Access Transportation Program\n\
 nRoss MacDonald\, Public Transit Program Manager\, Agency of Transportat
 ion\n\nAaron Frank\, Town Manager of Colchester\n\nCaleb Grant\, Chair\,
  Vermont Public Transportation Association\n\nClayton Clark\, General Ma
 nager\, Green Mountain Transit - Room 3
END:VALARM
END:VCALENDAR
