BEGIN:VCALENDAR
CALSCALE:GREGORIAN
PRODID:-//Ben Fortuna//iCal4j 1.0//EN
VERSION:2.0
BEGIN:VEVENT
DTSTAMP:20260120T190009Z
DTSTART:20260120T100000
DTEND:20260120T120000
SUMMARY:S. 213 - An act relating to the use of smart meters by public wat
 er systems\n\nJoseph Duncan\, General Manager\, Champlain Water District
 \n\nLiz Royer\, Exective Director\, Rural Water District\n\nBen Montross
 \, Agency of Natural Resources - Room 8
TZID:America/New_York
UID:20260120T190010Z-uidGen@richgoldman-357e73
END:VEVENT
BEGIN:VALARM
TRIGGER:-PT15M
ACTION:DISPLAY
DESCRIPTION:S. 213 - An act relating to the use of smart meters by public
  water systems\n\nJoseph Duncan\, General Manager\, Champlain Water Dist
 rict\n\nLiz Royer\, Exective Director\, Rural Water District\n\nBen Mont
 ross\, Agency of Natural Resources - Room 8
END:VALARM
END:VCALENDAR
