BEGIN:VCALENDAR
CALSCALE:GREGORIAN
PRODID:-//Ben Fortuna//iCal4j 1.0//EN
VERSION:2.0
BEGIN:VEVENT
DTSTAMP:20260120T150010Z
DTSTART:20260120T110000
DTEND:20260120T130000
SUMMARY:H. 631\n\nBill Introduction\n\nRep. R. Scott Campbell\, Bill Spon
 sor - Room 32
TZID:America/New_York
UID:20260120T150013Z-uidGen@richgoldman-357e73
END:VEVENT
BEGIN:VALARM
TRIGGER:-PT15M
ACTION:DISPLAY
DESCRIPTION:H. 631\n\nBill Introduction\n\nRep. R. Scott Campbell\, Bill 
 Sponsor - Room 32
END:VALARM
END:VCALENDAR
