BEGIN:VCALENDAR
CALSCALE:GREGORIAN
PRODID:-//Ben Fortuna//iCal4j 1.0//EN
VERSION:2.0
BEGIN:VEVENT
DTSTAMP:20260120T160010Z
DTSTART:20260120T103500
DTEND:20260120T123500
SUMMARY:FY26 Budget Adjustment Act\n\nDepartment of Health\n\nEmily Truto
 r\, Director of Substance Use Disorders\, Department of Health\n\nNicole
  Rau Mitiguy\, Substance Misuse Prevention Manager\, Department of Healt
 h - Room 9
TZID:America/New_York
UID:20260120T160020Z-uidGen@richgoldman-357e73
END:VEVENT
BEGIN:VALARM
TRIGGER:-PT15M
ACTION:DISPLAY
DESCRIPTION:FY26 Budget Adjustment Act\n\nDepartment of Health\n\nEmily T
 rutor\, Director of Substance Use Disorders\, Department of Health\n\nNi
 cole Rau Mitiguy\, Substance Misuse Prevention Manager\, Department of H
 ealth - Room 9
END:VALARM
END:VCALENDAR
